BEGIN:VCALENDAR
VERSION:2.0
PRODID:-//Fibresafe Training - ECPv4.6.24//NONSGML v1.0//EN
CALSCALE:GREGORIAN
METHOD:PUBLISH
X-WR-CALNAME:Fibresafe Training
X-ORIGINAL-URL:https://fibresafetraining.co.nz
X-WR-CALDESC:Events for Fibresafe Training
BEGIN:VEVENT
DTSTART;TZID=Pacific/Auckland:20181130T083000
DTEND;TZID=Pacific/Auckland:20181130T163000
DTSTAMP:20181218T135455
CREATED:20170918T061520Z
LAST-MODIFIED:20181120T004417Z
UID:7542-1543566600-1543595400@fibresafetraining.co.nz
SUMMARY:Removal Non-Friable Asbestos (B Class) - Auckland
DESCRIPTION:[vc_row][vc_column][vc_column_text css=”.vc_custom_1505799846567{margin-bottom: 0px !important;}”]Course Code: CPCCDE3014A \nThis course includes preparing\, containing and removing non-friable asbestos containing materials (ACMs)\, as well as knowledge of decontamination and disposal requirements. This unit of competency is recognised by Skills Organisation and WorkSafe New Zealand as equivalent in knowledge and skills to the NZ Unit Standard 28765. This course also covers the ARCP\, SWMS Safe Working Method Statements (JSA) and other Health and Safety Risks associated with Asbestos Removals.[/vc_column_text][/vc_column][/vc_row][vc_row][vc_column width=”1/3″][vc_btn title=”Read full course outline »” link=”url:https%3A%2F%2Ffibresafetraining.co.nz%2Fcourses%2Fremoval-non-friable-asbestos-b-class||target:%20_blank|” el_class=”grey”][/vc_column][vc_column width=”1/3″][vc_btn title=”BOOK NOW »” link=”url:%23buy-tickets|||”][/vc_column][vc_column width=”1/3″][/vc_column][/vc_row]\n
URL:https://fibresafetraining.co.nz/course/removal-non-friable-asbestos-b-class-auckland-30-november-2018
LOCATION:Auckland\, Unit 2\, 34 Hannigan Drive\, St Johns\, Auckland 1072\, New Zealand
CATEGORIES:Removal Non-Friable Asbestos B Class
END:VEVENT
BEGIN:VEVENT
DTSTART;TZID=Pacific/Auckland:20181203T083000
DTEND;TZID=Pacific/Auckland:20181204T163000
DTSTAMP:20181218T135455
CREATED:20170918T061520Z
LAST-MODIFIED:20181010T212943Z
UID:7214-1543825800-1543941000@fibresafetraining.co.nz
SUMMARY:Supervise Asbestos Removal - Wellington
DESCRIPTION:[vc_row][vc_column][vc_column_text css=”.vc_custom_1507527770948{margin-bottom: 0px !important;}”]Course Code: CPCCBC4051A \nThis course covers the outcomes required to supervise the removal process for friable and non-friable asbestos containing material (ACM). The unit includes planning for and supervising the removal process\, including preparing the work area and the work site\, using safe and compliant removal practices\, maintaining safety procedures\, and supervising the decontamination and removal of asbestos containing materials. [/vc_column_text][/vc_column][/vc_row][vc_row][vc_column width=”1/3″][vc_btn title=”Read full course outline »” link=”url:https%3A%2F%2Ffibresafetraining.co.nz%2Fasbestos-removal-courses%2Fsupervise-asbestos-removal||target:%20_blank|” el_class=”grey”][/vc_column][vc_column width=”1/3″][vc_btn title=”BOOK NOW »” link=”url:%23buy-tickets|||”][/vc_column][vc_column width=”1/3″][/vc_column][/vc_row]\n
URL:https://fibresafetraining.co.nz/course/supervise-asbestos-removal-wellington-3-2-2-2-3-2-2-2-2-2
LOCATION:Wellington\, 69 Cuba Street\, Petone\, Wellington\, 5046\, New Zealand
CATEGORIES:Supervise Asbestos Removal
END:VEVENT
BEGIN:VEVENT
DTSTART;TZID=Pacific/Auckland:20181210T083000
DTEND;TZID=Pacific/Auckland:20181210T163000
DTSTAMP:20181218T135455
CREATED:20170918T061520Z
LAST-MODIFIED:20181120T011127Z
UID:7545-1544430600-1544459400@fibresafetraining.co.nz
SUMMARY:Removal Non-Friable Asbestos (B Class) - Auckland
DESCRIPTION:[vc_row][vc_column][vc_column_text css=”.vc_custom_1505799846567{margin-bottom: 0px !important;}”]Course Code: CPCCDE3014A \nThis course includes preparing\, containing and removing non-friable asbestos containing materials (ACMs)\, as well as knowledge of decontamination and disposal requirements. This unit of competency is recognised by Skills Organisation and WorkSafe New Zealand as equivalent in knowledge and skills to the NZ Unit Standard 28765. This course also covers the ARCP\, SWMS Safe Working Method Statements (JSA) and other Health and Safety Risks associated with Asbestos Removals.[/vc_column_text][/vc_column][/vc_row][vc_row][vc_column width=”1/3″][vc_btn title=”Read full course outline »” link=”url:https%3A%2F%2Ffibresafetraining.co.nz%2Fcourses%2Fremoval-non-friable-asbestos-b-class||target:%20_blank|” el_class=”grey”][/vc_column][vc_column width=”1/3″][vc_btn title=”BOOK NOW »” link=”url:%23buy-tickets|||”][/vc_column][vc_column width=”1/3″][/vc_column][/vc_row]\n
URL:https://fibresafetraining.co.nz/course/removal-non-friable-asbestos-b-class-auckland-10-december-2018
LOCATION:Auckland\, Unit 2\, 34 Hannigan Drive\, St Johns\, Auckland 1072\, New Zealand
CATEGORIES:Removal Non-Friable Asbestos B Class
END:VEVENT
BEGIN:VEVENT
DTSTART;TZID=Pacific/Auckland:20181211T083000
DTEND;TZID=Pacific/Auckland:20181211T163000
DTSTAMP:20181218T135455
CREATED:20170918T061520Z
LAST-MODIFIED:20181120T010953Z
UID:7555-1544517000-1544545800@fibresafetraining.co.nz
SUMMARY:Removal Non-Friable Asbestos (B Class) - Wellington
DESCRIPTION:[vc_row][vc_column][vc_column_text css=”.vc_custom_1505799846567{margin-bottom: 0px !important;}”]Course Code: CPCCDE3014A \nThis course includes preparing\, containing and removing non-friable asbestos containing materials (ACMs)\, as well as knowledge of decontamination and disposal requirements. This unit of competency is recognised by Skills Organisation and WorkSafe New Zealand as equivalent in knowledge and skills to the NZ Unit Standard 28765. This course also covers the ARCP\, SWMS Safe Working Method Statements (JSA) and other Health and Safety Risks associated with Asbestos Removals.[/vc_column_text][/vc_column][/vc_row][vc_row][vc_column width=”1/3″][vc_btn title=”Read full course outline »” link=”url:https%3A%2F%2Ffibresafetraining.co.nz%2Fcourses%2Fremoval-non-friable-asbestos-b-class||target:%20_blank|” el_class=”grey”][/vc_column][vc_column width=”1/3″][vc_btn title=”BOOK NOW »” link=”url:%23buy-tickets|||”][/vc_column][vc_column width=”1/3″][/vc_column][/vc_row]\n
URL:https://fibresafetraining.co.nz/course/removal-non-friable-asbestos-b-class-wellington-11-december-2018
LOCATION:Wellington\, 69 Cuba Street\, Petone\, Wellington\, 5046\, New Zealand
CATEGORIES:Removal Non-Friable Asbestos B Class
END:VEVENT
BEGIN:VEVENT
DTSTART;TZID=Pacific/Auckland:20181211T083000
DTEND;TZID=Pacific/Auckland:20181212T163000
DTSTAMP:20181218T135455
CREATED:20171006T004251Z
LAST-MODIFIED:20181128T204842Z
UID:7217-1544517000-1544632200@fibresafetraining.co.nz
SUMMARY:Removal Friable Asbestos (A Class) - Auckland
DESCRIPTION:[vc_row][vc_column][vc_column_text css=”.vc_custom_1507250561003{margin-bottom: 0px !important;}”]Course Code: CPCCDE3015A \nThis course includes the outcomes required to remove friable asbestos containing material (ACM). The unit includes preparing\, enclosing and removing friable ACM\, and includes knowledge of decontamination and disposal requirements. This unit of competency is recognised by Skills Organisation and WorkSafe New Zealand as equivalent in knowledge and skills to the NZ Unit Standard 29766. This course also covers the ARCP\, SWMS Safe Working Method Statements (JSA) and other Health and Safety Risks associated with Asbestos Removals.[/vc_column_text][/vc_column][/vc_row][vc_row][vc_column width=”1/3″][vc_btn title=”Read full course outline »” link=”url:https%3A%2F%2Ffibresafetraining.co.nz%2Fasbestos-removal-courses%2Fremoval-friable-asbestos-a-class||target:%20_blank|” el_class=”grey”][/vc_column][vc_column width=”1/3″][vc_btn title=”BOOK NOW »” link=”url:%23buy-tickets|||”][/vc_column][vc_column width=”1/3″][/vc_column][/vc_row]\n
URL:https://fibresafetraining.co.nz/course/removal-friable-asbestos-a-class-auckland-3-2-2-2-2-2-2-3-3-2-2-2
LOCATION:Auckland\, Unit 2\, 34 Hannigan Drive\, St Johns\, Auckland 1072\, New Zealand
CATEGORIES:Removal Friable Asbestos A Class
END:VEVENT
BEGIN:VEVENT
DTSTART;TZID=Pacific/Auckland:20181212T083000
DTEND;TZID=Pacific/Auckland:20181213T163000
DTSTAMP:20181218T135455
CREATED:20171006T004251Z
LAST-MODIFIED:20181120T010834Z
UID:7552-1544603400-1544718600@fibresafetraining.co.nz
SUMMARY:Removal Friable Asbestos (A Class) - Wellington
DESCRIPTION:[vc_row][vc_column][vc_column_text css=”.vc_custom_1507250561003{margin-bottom: 0px !important;}”]Course Code: CPCCDE3015A \nThis course includes the outcomes required to remove friable asbestos containing material (ACM). The unit includes preparing\, enclosing and removing friable ACM\, and includes knowledge of decontamination and disposal requirements. This unit of competency is recognised by Skills Organisation and WorkSafe New Zealand as equivalent in knowledge and skills to the NZ Unit Standard 29766. This course also covers the ARCP\, SWMS Safe Working Method Statements (JSA) and other Health and Safety Risks associated with Asbestos Removals.[/vc_column_text][/vc_column][/vc_row][vc_row][vc_column width=”1/3″][vc_btn title=”Read full course outline »” link=”url:https%3A%2F%2Ffibresafetraining.co.nz%2Fasbestos-removal-courses%2Fremoval-friable-asbestos-a-class||target:%20_blank|” el_class=”grey”][/vc_column][vc_column width=”1/3″][vc_btn title=”BOOK NOW »” link=”url:%23buy-tickets|||”][/vc_column][vc_column width=”1/3″][/vc_column][/vc_row]\n
URL:https://fibresafetraining.co.nz/course/removal-friable-asbestos-a-class-wellington-12-13-december-2018
LOCATION:Wellington\, 69 Cuba Street\, Petone\, Wellington\, 5046\, New Zealand
CATEGORIES:Removal Friable Asbestos A Class
END:VEVENT
BEGIN:VEVENT
DTSTART;TZID=Pacific/Auckland:20181213T083000
DTEND;TZID=Pacific/Auckland:20181214T163000
DTSTAMP:20181218T135455
CREATED:20170918T061520Z
LAST-MODIFIED:20180924T094402Z
UID:7220-1544689800-1544805000@fibresafetraining.co.nz
SUMMARY:Supervise Asbestos Removal - Auckland
DESCRIPTION:[vc_row][vc_column][vc_column_text css=”.vc_custom_1507527770948{margin-bottom: 0px !important;}”]Course Code: CPCCBC4051A \nThis course covers the outcomes required to supervise the removal process for friable and non-friable asbestos containing material (ACM). The unit includes planning for and supervising the removal process\, including preparing the work area and the work site\, using safe and compliant removal practices\, maintaining safety procedures\, and supervising the decontamination and removal of asbestos containing materials. [/vc_column_text][/vc_column][/vc_row][vc_row][vc_column width=”1/3″][vc_btn title=”Read full course outline »” link=”url:https%3A%2F%2Ffibresafetraining.co.nz%2Fasbestos-removal-courses%2Fsupervise-asbestos-removal||target:%20_blank|” el_class=”grey”][/vc_column][vc_column width=”1/3″][vc_btn title=”BOOK NOW »” link=”url:%23buy-tickets|||”][/vc_column][vc_column width=”1/3″][/vc_column][/vc_row]\n
URL:https://fibresafetraining.co.nz/course/supervise-asbestos-removal-auckland-3-2-2-2-2-3-2-2-3-2-2
LOCATION:Auckland\, Unit 2\, 34 Hannigan Drive\, St Johns\, Auckland 1072\, New Zealand
CATEGORIES:Supervise Asbestos Removal
END:VEVENT
END:VCALENDAR